BEGIN:VCALENDAR
VERSION:2.0
PRODID:-//pickingme.org//NONSGML kigkonsult.se iCalcreator 2.30.10//
CALSCALE:GREGORIAN
METHOD:PUBLISH
UID:26c53008-a6aa-4973-b04f-7077fe2ee11f
X-WR-CALDESC:
X-WR-RELCALID:1a07410348ab8b0c5d81d72d9008b97f
X-WR-TIMEZONE:America/Chicago
BEGIN:VTIMEZONE
TZID:America/Chicago
BEGIN:STANDARD
TZNAME:CST
DTSTART:20161106T020000
TZOFFSETFROM:-0500
TZOFFSETTO:-0600
RDATE:20171105T020000
END:STANDARD
BEGIN:DAYLIGHT
TZNAME:CDT
DTSTART:20170312T020000
TZOFFSETFROM:-0600
TZOFFSETTO:-0500
RDATE:20180311T020000
END:DAYLIGHT
END:VTIMEZONE
BEGIN:VEVENT
UID:c3072fa1-46f8-4913-a51f-9b09edcb70d9
DTSTAMP:20260424T111803Z
DESCRIPTION:
DTSTART;TZID=America/Chicago:20170420T000000
DTEND;TZID=America/Chicago:20170420T235900
LOCATION:
SUMMARY:BFRB Conference
END:VEVENT
END:VCALENDAR
