BEGIN:VCALENDAR
VERSION:2.0
PRODID:-//pickingme.org//NONSGML kigkonsult.se iCalcreator 2.30.10//
CALSCALE:GREGORIAN
METHOD:PUBLISH
UID:3757b083-a1d8-4062-8393-c0855fb0bec2
X-WR-CALDESC:
X-WR-RELCALID:341b2df52d290d2cad042e83231a7ccc
X-WR-TIMEZONE:America/Chicago
BEGIN:VTIMEZONE
TZID:America/Chicago
BEGIN:STANDARD
TZNAME:CST
DTSTART:20161106T020000
TZOFFSETFROM:-0500
TZOFFSETTO:-0600
RDATE:20171105T020000
END:STANDARD
BEGIN:DAYLIGHT
TZNAME:CDT
DTSTART:20170312T020000
TZOFFSETFROM:-0600
TZOFFSETTO:-0500
RDATE:20180311T020000
END:DAYLIGHT
END:VTIMEZONE
BEGIN:VEVENT
UID:ca770e76-7978-4283-8fa8-45767bf4c22d
DTSTAMP:20260424T110727Z
DESCRIPTION:
DTSTART;TZID=America/Chicago:20170421T000000
DTEND;TZID=America/Chicago:20170421T235900
LOCATION:
SUMMARY:BFRB Conference
END:VEVENT
END:VCALENDAR
