BEGIN:VCALENDAR
VERSION:2.0
PRODID:-//pickingme.org//NONSGML kigkonsult.se iCalcreator 2.30.10//
CALSCALE:GREGORIAN
METHOD:PUBLISH
UID:4082f08d-2679-438a-9802-e83482346b85
X-WR-CALDESC:
X-WR-RELCALID:771ce362da66fdcb1145430e60b9210f
X-WR-TIMEZONE:America/Chicago
BEGIN:VTIMEZONE
TZID:America/Chicago
BEGIN:STANDARD
TZNAME:CST
DTSTART:20161106T020000
TZOFFSETFROM:-0500
TZOFFSETTO:-0600
RDATE:20171105T020000
END:STANDARD
BEGIN:DAYLIGHT
TZNAME:CDT
DTSTART:20170312T020000
TZOFFSETFROM:-0600
TZOFFSETTO:-0500
RDATE:20180311T020000
END:DAYLIGHT
END:VTIMEZONE
BEGIN:VEVENT
UID:a87f2bbd-5a86-4b32-8d50-5ac864ddee9e
DTSTAMP:20260424T110523Z
DESCRIPTION:
DTSTART;TZID=America/Chicago:20170422T000000
DTEND;TZID=America/Chicago:20170422T235900
LOCATION:
SUMMARY:BFRB Conference
END:VEVENT
END:VCALENDAR
