BEGIN:VCALENDAR
VERSION:2.0
PRODID:-//pickingme.org//NONSGML kigkonsult.se iCalcreator 2.30.10//
CALSCALE:GREGORIAN
METHOD:PUBLISH
UID:ed668e3e-9a5f-43b6-b333-cd346edfe551
X-WR-CALDESC:
X-WR-RELCALID:32f33f72382a4f1866f0287113a9b208
X-WR-TIMEZONE:America/Chicago
BEGIN:VTIMEZONE
TZID:America/Chicago
BEGIN:STANDARD
TZNAME:CST
DTSTART:20161106T020000
TZOFFSETFROM:-0500
TZOFFSETTO:-0600
RDATE:20171105T020000
END:STANDARD
BEGIN:DAYLIGHT
TZNAME:CDT
DTSTART:20170312T020000
TZOFFSETFROM:-0600
TZOFFSETTO:-0500
RDATE:20180311T020000
END:DAYLIGHT
END:VTIMEZONE
BEGIN:VEVENT
UID:494acc5e-e773-415e-9d8e-6ef3f951ae82
DTSTAMP:20260424T113137Z
DESCRIPTION:
DTSTART;TZID=America/Chicago:20170423T000000
DTEND;TZID=America/Chicago:20170423T235900
LOCATION:
SUMMARY:BFRB Conference
END:VEVENT
END:VCALENDAR
