BEGIN:VCALENDAR
VERSION:2.0
PRODID:-//pickingme.org//NONSGML kigkonsult.se iCalcreator 2.30.10//
CALSCALE:GREGORIAN
METHOD:PUBLISH
UID:16f53edf-9356-48e7-a81f-bfd0f3843a66
X-WR-CALDESC:
X-WR-RELCALID:e087019e75c7798ca23f547e1db1e31b
X-WR-TIMEZONE:America/Chicago
BEGIN:VTIMEZONE
TZID:America/Chicago
BEGIN:STANDARD
TZNAME:CST
DTSTART:20161106T020000
TZOFFSETFROM:-0500
TZOFFSETTO:-0600
RDATE:20171105T020000
END:STANDARD
BEGIN:DAYLIGHT
TZNAME:CDT
DTSTART:20170312T020000
TZOFFSETFROM:-0600
TZOFFSETTO:-0500
RDATE:20180311T020000
END:DAYLIGHT
END:VTIMEZONE
BEGIN:VEVENT
UID:740c8b75-492b-4491-927d-c57e72060706
DTSTAMP:20260424T093653Z
DESCRIPTION:
DTSTART;TZID=America/Chicago:20170501T000000
DTEND;TZID=America/Chicago:20170501T235900
LOCATION:
SUMMARY:Mental Health Awareness Month
END:VEVENT
END:VCALENDAR
