BEGIN:VCALENDAR
VERSION:2.0
PRODID:-//pickingme.org//NONSGML kigkonsult.se iCalcreator 2.30.10//
CALSCALE:GREGORIAN
METHOD:PUBLISH
UID:db8acfd2-16aa-4a56-b7ef-0020dd23de7a
X-WR-CALDESC:
X-WR-RELCALID:272cd74ba0ea9f4cf6c8da895e788020
X-WR-TIMEZONE:America/Chicago
BEGIN:VTIMEZONE
TZID:America/Chicago
BEGIN:STANDARD
TZNAME:CST
DTSTART:20161106T020000
TZOFFSETFROM:-0500
TZOFFSETTO:-0600
RDATE:20171105T020000
RDATE:20181104T020000
END:STANDARD
BEGIN:DAYLIGHT
TZNAME:CDT
DTSTART:20170312T020000
TZOFFSETFROM:-0600
TZOFFSETTO:-0500
RDATE:20180311T020000
END:DAYLIGHT
END:VTIMEZONE
BEGIN:VEVENT
UID:7a518f1c-9306-4011-8db6-c789047c22ce
DTSTAMP:20260424T074426Z
DESCRIPTION:
DTSTART;TZID=America/Chicago:20170530T000000
DTEND;TZID=America/Chicago:20170602T235900
LOCATION:Madison\, WI
SUMMARY:Fundraising and Development for Nonprofits
END:VEVENT
END:VCALENDAR
