BEGIN:VCALENDAR
VERSION:2.0
PRODID:-//pickingme.org//NONSGML kigkonsult.se iCalcreator 2.30.10//
CALSCALE:GREGORIAN
METHOD:PUBLISH
UID:065f24b0-a7d8-4c79-bdcb-5f6007d7eb26
X-WR-CALDESC:
X-WR-RELCALID:d7509803c5da5d9c61ef50a363d7802c
X-WR-TIMEZONE:America/Chicago
BEGIN:VTIMEZONE
TZID:America/Chicago
BEGIN:STANDARD
TZNAME:CST
DTSTART:20161106T020000
TZOFFSETFROM:-0500
TZOFFSETTO:-0600
RDATE:20171105T020000
RDATE:20181104T020000
END:STANDARD
BEGIN:DAYLIGHT
TZNAME:CDT
DTSTART:20170312T020000
TZOFFSETFROM:-0600
TZOFFSETTO:-0500
RDATE:20180311T020000
END:DAYLIGHT
END:VTIMEZONE
BEGIN:VEVENT
UID:58aa3307-aa9d-45d3-b38e-329cc4a7184c
DTSTAMP:20260424T074300Z
DESCRIPTION:
DTSTART;TZID=America/Chicago:20170614T000000
DTEND;TZID=America/Chicago:20170614T235900
LOCATION:
SUMMARY:Mental Health America
END:VEVENT
END:VCALENDAR
