BEGIN:VCALENDAR
VERSION:2.0
PRODID:-//pickingme.org//NONSGML kigkonsult.se iCalcreator 2.30.10//
CALSCALE:GREGORIAN
METHOD:PUBLISH
UID:4db4b05a-d147-4404-89e7-0e18443272f5
X-WR-CALDESC:
X-WR-RELCALID:158a9422fc33d62112891aebdbe1f44a
X-WR-TIMEZONE:America/Chicago
BEGIN:VTIMEZONE
TZID:America/Chicago
BEGIN:STANDARD
TZNAME:CST
DTSTART:20161106T020000
TZOFFSETFROM:-0500
TZOFFSETTO:-0600
RDATE:20171105T020000
RDATE:20181104T020000
END:STANDARD
BEGIN:DAYLIGHT
TZNAME:CDT
DTSTART:20170312T020000
TZOFFSETFROM:-0600
TZOFFSETTO:-0500
RDATE:20180311T020000
END:DAYLIGHT
END:VTIMEZONE
BEGIN:VEVENT
UID:6837b2e5-cfeb-48f3-8059-14a9b5d19426
DTSTAMP:20260424T074136Z
DESCRIPTION:
DTSTART;TZID=America/Chicago:20170615T000000
DTEND;TZID=America/Chicago:20170615T235900
LOCATION:
SUMMARY:Mental Health America
END:VEVENT
END:VCALENDAR
