BEGIN:VCALENDAR
VERSION:2.0
PRODID:-//pickingme.org//NONSGML kigkonsult.se iCalcreator 2.30.10//
CALSCALE:GREGORIAN
METHOD:PUBLISH
UID:9d4b1630-3fcd-491c-ba98-12f394ef47ab
X-WR-CALDESC:
X-WR-RELCALID:502ed5a9ff1e01510e4267a398dd0a66
X-WR-TIMEZONE:America/Chicago
BEGIN:VTIMEZONE
TZID:America/Chicago
BEGIN:STANDARD
TZNAME:CST
DTSTART:20161106T020000
TZOFFSETFROM:-0500
TZOFFSETTO:-0600
RDATE:20171105T020000
RDATE:20181104T020000
END:STANDARD
BEGIN:DAYLIGHT
TZNAME:CDT
DTSTART:20170312T020000
TZOFFSETFROM:-0600
TZOFFSETTO:-0500
RDATE:20180311T020000
END:DAYLIGHT
END:VTIMEZONE
BEGIN:VEVENT
UID:5fccc7b5-081a-45f1-83b1-4fa627a74be2
DTSTAMP:20260424T074744Z
DESCRIPTION:
DTSTART;TZID=America/Chicago:20170616T000000
DTEND;TZID=America/Chicago:20170616T235900
LOCATION:
SUMMARY:Mental Health America
END:VEVENT
END:VCALENDAR
