BEGIN:VCALENDAR
VERSION:2.0
PRODID:-//pickingme.org//NONSGML kigkonsult.se iCalcreator 2.30.10//
CALSCALE:GREGORIAN
METHOD:PUBLISH
UID:3ce343a2-d326-4a6e-99d4-0f0a0ef7e1d9
X-WR-CALDESC:
X-WR-RELCALID:b7e903b87c41c66b646e0c55d71770e9
X-WR-TIMEZONE:America/Chicago
BEGIN:VTIMEZONE
TZID:America/Chicago
BEGIN:STANDARD
TZNAME:CST
DTSTART:20161106T020000
TZOFFSETFROM:-0500
TZOFFSETTO:-0600
RDATE:20171105T020000
RDATE:20181104T020000
END:STANDARD
BEGIN:DAYLIGHT
TZNAME:CDT
DTSTART:20170312T020000
TZOFFSETFROM:-0600
TZOFFSETTO:-0500
RDATE:20180311T020000
END:DAYLIGHT
END:VTIMEZONE
BEGIN:VEVENT
UID:970e84c5-6080-412b-afed-7dba0f8c4d8f
DTSTAMP:20260424T060237Z
DESCRIPTION:
DTSTART;TZID=America/Chicago:20170706T000000
DTEND;TZID=America/Chicago:20170706T235900
LOCATION:
SUMMARY:International OCD Conference
END:VEVENT
END:VCALENDAR
