BEGIN:VCALENDAR
VERSION:2.0
PRODID:-//pickingme.org//NONSGML kigkonsult.se iCalcreator 2.30.10//
CALSCALE:GREGORIAN
METHOD:PUBLISH
UID:8d87cbd2-643c-4b12-9ba0-1c5437fc82ae
X-WR-CALDESC:
X-WR-RELCALID:73dfc0651981402895c11e10c9fb8d30
X-WR-TIMEZONE:America/Chicago
BEGIN:VTIMEZONE
TZID:America/Chicago
BEGIN:STANDARD
TZNAME:CST
DTSTART:20161106T020000
TZOFFSETFROM:-0500
TZOFFSETTO:-0600
RDATE:20171105T020000
RDATE:20181104T020000
END:STANDARD
BEGIN:DAYLIGHT
TZNAME:CDT
DTSTART:20170312T020000
TZOFFSETFROM:-0600
TZOFFSETTO:-0500
RDATE:20180311T020000
END:DAYLIGHT
END:VTIMEZONE
BEGIN:VEVENT
UID:a880a8bf-710e-44bb-966f-5119e84aff06
DTSTAMP:20260424T053450Z
DESCRIPTION:
DTSTART;TZID=America/Chicago:20170708T000000
DTEND;TZID=America/Chicago:20170708T235900
LOCATION:
SUMMARY:International OCD Conference
END:VEVENT
END:VCALENDAR
