BEGIN:VCALENDAR
VERSION:2.0
PRODID:-//pickingme.org//NONSGML kigkonsult.se iCalcreator 2.30.10//
CALSCALE:GREGORIAN
METHOD:PUBLISH
UID:21fb978a-f6bd-4e3c-bbc1-0339326ea64a
X-WR-CALDESC:
X-WR-RELCALID:34975abf49db378506ee1d4e70f476b9
X-WR-TIMEZONE:America/Chicago
BEGIN:VTIMEZONE
TZID:America/Chicago
BEGIN:STANDARD
TZNAME:CST
DTSTART:20161106T020000
TZOFFSETFROM:-0500
TZOFFSETTO:-0600
RDATE:20171105T020000
RDATE:20181104T020000
END:STANDARD
BEGIN:DAYLIGHT
TZNAME:CDT
DTSTART:20170312T020000
TZOFFSETFROM:-0600
TZOFFSETTO:-0500
RDATE:20180311T020000
END:DAYLIGHT
END:VTIMEZONE
BEGIN:VEVENT
UID:f06dc341-c17c-46d0-b808-b29b022ae7de
DTSTAMP:20260424T060440Z
DESCRIPTION:
DTSTART;TZID=America/Chicago:20170709T000000
DTEND;TZID=America/Chicago:20170709T235900
LOCATION:
SUMMARY:International OCD Conference
END:VEVENT
END:VCALENDAR
