BEGIN:VCALENDAR
VERSION:2.0
PRODID:-//pickingme.org//NONSGML kigkonsult.se iCalcreator 2.30.10//
CALSCALE:GREGORIAN
METHOD:PUBLISH
UID:e5f6723d-d601-4883-b708-97a33e7e1810
X-WR-CALDESC:
X-WR-RELCALID:edc39cb751c84628233b7ace92590e6c
X-WR-TIMEZONE:America/Chicago
BEGIN:VTIMEZONE
TZID:America/Chicago
BEGIN:STANDARD
TZNAME:CST
DTSTART:20161106T020000
TZOFFSETFROM:-0500
TZOFFSETTO:-0600
RDATE:20171105T020000
RDATE:20181104T020000
END:STANDARD
BEGIN:DAYLIGHT
TZNAME:CDT
DTSTART:20170312T020000
TZOFFSETFROM:-0600
TZOFFSETTO:-0500
RDATE:20180311T020000
END:DAYLIGHT
END:VTIMEZONE
BEGIN:VEVENT
UID:fc440b5a-5693-4979-9868-fdf2c1c1efcd
DTSTAMP:20260424T052614Z
DESCRIPTION:
DTSTART;TZID=America/Chicago:20170710T000000
DTEND;TZID=America/Chicago:20170710T235900
LOCATION:
SUMMARY:International OCD Conference
END:VEVENT
END:VCALENDAR
