BEGIN:VCALENDAR
VERSION:2.0
PRODID:-//pickingme.org//NONSGML kigkonsult.se iCalcreator 2.30.10//
CALSCALE:GREGORIAN
METHOD:PUBLISH
UID:88bb87c6-4a89-4f3d-8f21-b0a14644f99a
X-WR-CALDESC:
X-WR-RELCALID:5485d868a5baf96e8313b91c57b1ea11
X-WR-TIMEZONE:America/Chicago
BEGIN:VTIMEZONE
TZID:America/Chicago
BEGIN:STANDARD
TZNAME:CST
DTSTART:20161106T020000
TZOFFSETFROM:-0500
TZOFFSETTO:-0600
RDATE:20171105T020000
RDATE:20181104T020000
END:STANDARD
BEGIN:DAYLIGHT
TZNAME:CDT
DTSTART:20170312T020000
TZOFFSETFROM:-0600
TZOFFSETTO:-0500
RDATE:20180311T020000
RDATE:20190310T020000
END:DAYLIGHT
END:VTIMEZONE
BEGIN:VEVENT
UID:abb84ff5-32a9-4327-8401-9dab196c7fdf
DTSTAMP:20260424T001451Z
DESCRIPTION:
DTSTART;TZID=America/Chicago:20171001T000000
DTEND;TZID=America/Chicago:20171007T233000
LOCATION:
SUMMARY:#bfrbweek \,#pickingme4the3
END:VEVENT
END:VCALENDAR
