BEGIN:VCALENDAR
VERSION:2.0
PRODID:-//pickingme.org//NONSGML kigkonsult.se iCalcreator 2.30.10//
CALSCALE:GREGORIAN
METHOD:PUBLISH
UID:823556d0-48b5-4d2b-a3e1-e15914a8751a
X-WR-CALDESC:
X-WR-RELCALID:02b6262db12333d84b3f0622abeedf87
X-WR-TIMEZONE:America/Chicago
BEGIN:VTIMEZONE
TZID:America/Chicago
BEGIN:STANDARD
TZNAME:CST
DTSTART:20171105T020000
TZOFFSETFROM:-0500
TZOFFSETTO:-0600
RDATE:20181104T020000
END:STANDARD
BEGIN:DAYLIGHT
TZNAME:CDT
DTSTART:20170312T020000
TZOFFSETFROM:-0600
TZOFFSETTO:-0500
RDATE:20180311T020000
RDATE:20190310T020000
END:DAYLIGHT
END:VTIMEZONE
BEGIN:VEVENT
UID:b252ab67-2c37-49c6-914a-bc37b282c3e3
DTSTAMP:20260423T195657Z
DESCRIPTION:
DTSTART;TZID=America/Chicago:20180117T000000
DTEND;TZID=America/Chicago:20180120T235900
LOCATION:Hilton Portland Downtown
SUMMARY:NASPA - School Affairs Profesionals
END:VEVENT
END:VCALENDAR
