BEGIN:VCALENDAR
VERSION:2.0
PRODID:-//pickingme.org//NONSGML kigkonsult.se iCalcreator 2.30.10//
CALSCALE:GREGORIAN
METHOD:PUBLISH
UID:50a3e205-4bc2-4d4c-bc7d-4132fc50cf8d
X-WR-CALDESC:
X-WR-RELCALID:1b9b9d20666611e36da82ba93c64050f
X-WR-TIMEZONE:America/Chicago
BEGIN:VTIMEZONE
TZID:America/Chicago
BEGIN:STANDARD
TZNAME:CST
DTSTART:20171105T020000
TZOFFSETFROM:-0500
TZOFFSETTO:-0600
RDATE:20181104T020000
END:STANDARD
BEGIN:DAYLIGHT
TZNAME:CDT
DTSTART:20170312T020000
TZOFFSETFROM:-0600
TZOFFSETTO:-0500
RDATE:20180311T020000
RDATE:20190310T020000
END:DAYLIGHT
END:VTIMEZONE
BEGIN:VEVENT
UID:a1bb10d4-72ee-4612-a610-2e6ab3db72f8
DTSTAMP:20260423T185010Z
DESCRIPTION:
DTSTART;TZID=America/Chicago:20180121T143000
DTEND;TZID=America/Chicago:20180123T153000
LOCATION:Donald E. Stephens Convention Center\, Rosemont\, Illinois
SUMMARY:Face and Body Expo
END:VEVENT
END:VCALENDAR
