BEGIN:VCALENDAR
VERSION:2.0
PRODID:-//pickingme.org//NONSGML kigkonsult.se iCalcreator 2.30.10//
CALSCALE:GREGORIAN
METHOD:PUBLISH
UID:160ecb95-3790-4730-ba0f-42c640371de7
X-WR-CALDESC:
X-WR-RELCALID:9e6d89b68bece3a8a267253c5f8ec975
X-WR-TIMEZONE:America/Chicago
BEGIN:VTIMEZONE
TZID:America/Chicago
BEGIN:STANDARD
TZNAME:CST
DTSTART:20171105T020000
TZOFFSETFROM:-0500
TZOFFSETTO:-0600
RDATE:20181104T020000
END:STANDARD
BEGIN:DAYLIGHT
TZNAME:CDT
DTSTART:20180311T020000
TZOFFSETFROM:-0600
TZOFFSETTO:-0500
RDATE:20190310T020000
END:DAYLIGHT
END:VTIMEZONE
BEGIN:VEVENT
UID:6e8c9f1e-ba8a-40d0-a4c8-51be0bfb4007
DTSTAMP:20260423T150133Z
DESCRIPTION:
DTSTART;TZID=America/Chicago:20180326T150000
DTEND;TZID=America/Chicago:20180327T160000
LOCATION:
SUMMARY:Cause Camp
END:VEVENT
END:VCALENDAR
