BEGIN:VCALENDAR
VERSION:2.0
PRODID:-//pickingme.org//NONSGML kigkonsult.se iCalcreator 2.30.10//
CALSCALE:GREGORIAN
METHOD:PUBLISH
UID:19266da3-0d54-4045-9dda-6315963a4fe0
X-WR-CALDESC:
X-WR-RELCALID:b5e1ef5e55cce0c5692edd5162ec1887
X-WR-TIMEZONE:America/Chicago
BEGIN:VTIMEZONE
TZID:America/Chicago
BEGIN:STANDARD
TZNAME:CST
DTSTART:20171105T020000
TZOFFSETFROM:-0500
TZOFFSETTO:-0600
RDATE:20181104T020000
END:STANDARD
BEGIN:DAYLIGHT
TZNAME:CDT
DTSTART:20180311T020000
TZOFFSETFROM:-0600
TZOFFSETTO:-0500
RDATE:20190310T020000
END:DAYLIGHT
END:VTIMEZONE
BEGIN:VEVENT
UID:24c779da-a4f6-4409-8495-410afacc735c
DTSTAMP:20260423T124355Z
DESCRIPTION:
DTSTART;TZID=America/Chicago:20180419T000000
DTEND;TZID=America/Chicago:20180422T235900
LOCATION:San Fransisco
SUMMARY:TLC Conference for BFRBs
END:VEVENT
END:VCALENDAR
