BEGIN:VCALENDAR
VERSION:2.0
PRODID:-//pickingme.org//NONSGML kigkonsult.se iCalcreator 2.30.10//
CALSCALE:GREGORIAN
METHOD:PUBLISH
UID:afe2afc3-9fa7-468e-be88-ae00e1263872
X-WR-CALDESC:Picking Me Foundation invites you to LAST CALL.Celebrate and g
 ive thanks this last day of mental health month.
X-WR-RELCALID:51be5629c6e78a6029002b200ea68c31
X-WR-TIMEZONE:America/Chicago
BEGIN:VTIMEZONE
TZID:America/Chicago
BEGIN:STANDARD
TZNAME:CST
DTSTART:20171105T020000
TZOFFSETFROM:-0500
TZOFFSETTO:-0600
RDATE:20181104T020000
RDATE:20191103T020000
END:STANDARD
BEGIN:DAYLIGHT
TZNAME:CDT
DTSTART:20180311T020000
TZOFFSETFROM:-0600
TZOFFSETTO:-0500
RDATE:20190310T020000
END:DAYLIGHT
END:VTIMEZONE
BEGIN:VEVENT
UID:6d8359b0-a059-4928-89f5-9b67b385d25f
DTSTAMP:20260423T105532Z
DESCRIPTION:Picking Me Foundation invites you to LAST CALL.Celebrate and gi
 ve thanks this last day of mental health month.
DTSTART;TZID=America/Chicago:20180531T173000
DTEND;TZID=America/Chicago:20180531T193000
LOCATION:Pippin’s Tavern\, 806 N Rush St\, Chicago\, IL 60611
SUMMARY:LAST CALL
END:VEVENT
END:VCALENDAR
