BEGIN:VCALENDAR
VERSION:2.0
PRODID:-//pickingme.org//NONSGML kigkonsult.se iCalcreator 2.30.10//
CALSCALE:GREGORIAN
METHOD:PUBLISH
UID:f907636d-1ed6-4111-a4c4-8dcb75931f5b
X-WR-CALDESC:The Heart & Soul Academy Annual BFRB is a full experiential pr
 ogram. Whether you are a picker\, a puller\, a biter\, a parent\, or a par
 tner\, come and transform your relationship to these problems! Find healin
 g\, understanding\, and discover more effective ways of navigating life
X-WR-RELCALID:06c86d955a1f1c6241025ba3a80485a5
X-WR-TIMEZONE:America/Chicago
BEGIN:VTIMEZONE
TZID:America/Chicago
BEGIN:STANDARD
TZNAME:CST
DTSTART:20171105T020000
TZOFFSETFROM:-0500
TZOFFSETTO:-0600
RDATE:20181104T020000
RDATE:20191103T020000
END:STANDARD
BEGIN:DAYLIGHT
TZNAME:CDT
DTSTART:20180311T020000
TZOFFSETFROM:-0600
TZOFFSETTO:-0500
RDATE:20190310T020000
END:DAYLIGHT
END:VTIMEZONE
BEGIN:VEVENT
UID:b388a29f-8bb6-45aa-a531-3ceb03a1a5ce
DTSTAMP:20260423T070748Z
DESCRIPTION:The Heart & Soul Academy Annual BFRB is a full experiential pro
 gram. Whether you are a picker\, a puller\, a biter\, a parent\, or a part
 ner\, come and transform your relationship to these problems! Find healing
 \, understanding\, and discover more effective ways of navigating life
DTSTART;TZID=America/Chicago:20180719T180000
DTEND;TZID=America/Chicago:20180722T100000
LOCATION:Loveland\, Colorado
SUMMARY:The Heart & Soul Academy’s Annual BFRB Retreat
END:VEVENT
END:VCALENDAR
