BEGIN:VCALENDAR
VERSION:2.0
PRODID:-//pickingme.org//NONSGML kigkonsult.se iCalcreator 2.30.10//
CALSCALE:GREGORIAN
METHOD:PUBLISH
UID:d1f09ec6-a02f-4d7e-9129-0c96e1159561
X-WR-CALDESC:Picking me foundation is attending the 25th International OCD 
 conference
X-WR-RELCALID:e6ac1876f019bea5c4f0eb78b6e1830e
X-WR-TIMEZONE:America/Chicago
BEGIN:VTIMEZONE
TZID:America/Chicago
BEGIN:STANDARD
TZNAME:CST
DTSTART:20171105T020000
TZOFFSETFROM:-0500
TZOFFSETTO:-0600
RDATE:20181104T020000
RDATE:20191103T020000
END:STANDARD
BEGIN:DAYLIGHT
TZNAME:CDT
DTSTART:20180311T020000
TZOFFSETFROM:-0600
TZOFFSETTO:-0500
RDATE:20190310T020000
END:DAYLIGHT
END:VTIMEZONE
BEGIN:VEVENT
UID:ceea4d13-b946-412a-a9ae-2440d61c8acf
DTSTAMP:20260423T085017Z
DESCRIPTION:Picking me foundation is attending the 25th International OCD c
 onference
DTSTART;TZID=America/Chicago:20180727T000000
DTEND;TZID=America/Chicago:20180729T235900
LOCATION:Washington Marriott Wardmen Park 2660 Woodley Road NW  Washington 
 D.C.\, MD United States
SUMMARY:International OCD Foundation 25th Conference
END:VEVENT
END:VCALENDAR
