BEGIN:VCALENDAR
VERSION:2.0
PRODID:-//pickingme.org//NONSGML kigkonsult.se iCalcreator 2.30.10//
CALSCALE:GREGORIAN
METHOD:PUBLISH
UID:27befc22-852e-4343-bf31-230d50633da7
X-WR-CALDESC:
X-WR-RELCALID:ac54d1ed21842f4d86efe2a932ab06be
X-WR-TIMEZONE:America/Chicago
BEGIN:VTIMEZONE
TZID:America/Chicago
BEGIN:STANDARD
TZNAME:CST
DTSTART:20171105T020000
TZOFFSETFROM:-0500
TZOFFSETTO:-0600
RDATE:20181104T020000
RDATE:20191103T020000
END:STANDARD
BEGIN:DAYLIGHT
TZNAME:CDT
DTSTART:20180311T020000
TZOFFSETFROM:-0600
TZOFFSETTO:-0500
RDATE:20190310T020000
END:DAYLIGHT
END:VTIMEZONE
BEGIN:VEVENT
UID:30d58316-7856-4bd6-b547-de7819f6909e
DTSTAMP:20260423T045508Z
DESCRIPTION:
DTSTART;TZID=America/Chicago:20180816T170000
DTEND;TZID=America/Chicago:20180816T200000
LOCATION:
SUMMARY:Picking Me's Birthday Bash
END:VEVENT
END:VCALENDAR
