BEGIN:VCALENDAR
VERSION:2.0
PRODID:-//pickingme.org//NONSGML kigkonsult.se iCalcreator 2.30.10//
CALSCALE:GREGORIAN
METHOD:PUBLISH
UID:e3bb7e37-edea-4d42-89bc-bf5f017bde14
X-WR-CALDESC:
X-WR-RELCALID:27eec3e1b0a925ff6fdb9d6c1f6a1e5e
X-WR-TIMEZONE:America/Chicago
BEGIN:VTIMEZONE
TZID:America/Chicago
BEGIN:STANDARD
TZNAME:CST
DTSTART:20171105T020000
TZOFFSETFROM:-0500
TZOFFSETTO:-0600
RDATE:20181104T020000
RDATE:20191103T020000
END:STANDARD
BEGIN:DAYLIGHT
TZNAME:CDT
DTSTART:20180311T020000
TZOFFSETFROM:-0600
TZOFFSETTO:-0500
RDATE:20190310T020000
RDATE:20200308T020000
END:DAYLIGHT
END:VTIMEZONE
BEGIN:VEVENT
UID:5e4aa576-98e0-431e-9871-516a061f171a
DTSTAMP:20260423T024815Z
DESCRIPTION:
DTSTART;TZID=America/Chicago:20180915T100000
DTEND;TZID=America/Chicago:20180916T170000
LOCATION:Donald E. Stephens Convention Center
SUMMARY:Chicago Ultimate Women's Expo
END:VEVENT
END:VCALENDAR
