BEGIN:VCALENDAR
VERSION:2.0
PRODID:-//pickingme.org//NONSGML kigkonsult.se iCalcreator 2.30.10//
CALSCALE:GREGORIAN
METHOD:PUBLISH
UID:4262b293-8d4c-4afe-855d-ef402f8949ce
X-WR-CALDESC:
X-WR-RELCALID:84bbed1016f555a90145f8672a41a6e2
X-WR-TIMEZONE:America/Chicago
BEGIN:VTIMEZONE
TZID:America/Chicago
BEGIN:STANDARD
TZNAME:CST
DTSTART:20171105T020000
TZOFFSETFROM:-0500
TZOFFSETTO:-0600
RDATE:20181104T020000
RDATE:20191103T020000
END:STANDARD
BEGIN:DAYLIGHT
TZNAME:CDT
DTSTART:20180311T020000
TZOFFSETFROM:-0600
TZOFFSETTO:-0500
RDATE:20190310T020000
RDATE:20200308T020000
END:DAYLIGHT
END:VTIMEZONE
BEGIN:VEVENT
UID:5a5e7c8b-8688-4c87-8721-9f6c84a5f33c
DTSTAMP:20260423T025534Z
DESCRIPTION:
DTSTART;TZID=America/Chicago:20180916T150000
DTEND;TZID=America/Chicago:20180916T160000
LOCATION:
SUMMARY:Lauren McKeaney's Chicago Women's Expo Seminar
END:VEVENT
END:VCALENDAR
