BEGIN:VCALENDAR
VERSION:2.0
PRODID:-//pickingme.org//NONSGML kigkonsult.se iCalcreator 2.30.10//
CALSCALE:GREGORIAN
METHOD:PUBLISH
UID:267bf56d-fff8-4688-8c36-67bcba53b9a5
X-WR-CALDESC:
X-WR-RELCALID:a7f3802f65f36f4cfab967ad29dd4bf4
X-WR-TIMEZONE:America/Chicago
BEGIN:VTIMEZONE
TZID:America/Chicago
BEGIN:STANDARD
TZNAME:CST
DTSTART:20171105T020000
TZOFFSETFROM:-0500
TZOFFSETTO:-0600
RDATE:20181104T020000
RDATE:20191103T020000
END:STANDARD
BEGIN:DAYLIGHT
TZNAME:CDT
DTSTART:20180311T020000
TZOFFSETFROM:-0600
TZOFFSETTO:-0500
RDATE:20190310T020000
RDATE:20200308T020000
END:DAYLIGHT
END:VTIMEZONE
BEGIN:VEVENT
UID:838bdf81-c90a-4a5a-a1ca-d9155d346f0e
DTSTAMP:20260423T003103Z
DESCRIPTION:
DTSTART;TZID=America/Chicago:20181001T000000
DTEND;TZID=America/Chicago:20181007T235900
LOCATION:
SUMMARY:BFRB Awareness Week
END:VEVENT
END:VCALENDAR
