BEGIN:VCALENDAR
VERSION:2.0
PRODID:-//pickingme.org//NONSGML kigkonsult.se iCalcreator 2.30.10//
CALSCALE:GREGORIAN
METHOD:PUBLISH
UID:674650ed-aa54-43aa-abd7-e2f7484f0866
X-WR-CALDESC:
X-WR-RELCALID:70fffacdfc19d0df5a4c244fba1a49d1
X-WR-TIMEZONE:America/Chicago
BEGIN:VTIMEZONE
TZID:America/Chicago
BEGIN:STANDARD
TZNAME:CST
DTSTART:20171105T020000
TZOFFSETFROM:-0500
TZOFFSETTO:-0600
RDATE:20181104T020000
RDATE:20191103T020000
END:STANDARD
BEGIN:DAYLIGHT
TZNAME:CDT
DTSTART:20180311T020000
TZOFFSETFROM:-0600
TZOFFSETTO:-0500
RDATE:20190310T020000
RDATE:20200308T020000
END:DAYLIGHT
END:VTIMEZONE
BEGIN:VEVENT
UID:b2d016c3-44f9-4f73-8688-3cc2d44cbc3d
DTSTAMP:20260423T005557Z
DESCRIPTION:
DTSTART;TZID=America/Chicago:20181006T090000
DTEND;TZID=America/Chicago:20181006T120000
LOCATION:
SUMMARY:Mental Health Advocacy Capital Walk
END:VEVENT
END:VCALENDAR
