BEGIN:VCALENDAR
VERSION:2.0
PRODID:-//pickingme.org//NONSGML kigkonsult.se iCalcreator 2.30.10//
CALSCALE:GREGORIAN
METHOD:PUBLISH
UID:128bc32b-58f1-458c-8c46-de46b6748f7c
X-WR-CALDESC:
X-WR-RELCALID:824e476bdbd3882838d0f2054ea0f73c
X-WR-TIMEZONE:America/Chicago
BEGIN:VTIMEZONE
TZID:America/Chicago
BEGIN:STANDARD
TZNAME:CST
DTSTART:20181104T020000
TZOFFSETFROM:-0500
TZOFFSETTO:-0600
RDATE:20191103T020000
END:STANDARD
BEGIN:DAYLIGHT
TZNAME:CDT
DTSTART:20180311T020000
TZOFFSETFROM:-0600
TZOFFSETTO:-0500
RDATE:20190310T020000
RDATE:20200308T020000
END:DAYLIGHT
END:VTIMEZONE
BEGIN:VEVENT
UID:0c58c3b9-ed6f-4cd7-83d8-d49ecc127fba
DTSTAMP:20260424T123055Z
DESCRIPTION:
DTSTART;TZID=America/Chicago:20181115T170000
DTEND;TZID=America/Chicago:20181115T190000
LOCATION:She-Nannigans
SUMMARY:Football & Philanthropy
END:VEVENT
END:VCALENDAR
