BEGIN:VCALENDAR
VERSION:2.0
PRODID:-//pickingme.org//NONSGML kigkonsult.se iCalcreator 2.30.10//
CALSCALE:GREGORIAN
METHOD:PUBLISH
UID:d6feaa9c-cf54-4da8-bdeb-ff074e9018f4
X-WR-CALDESC:When you share about the Picking Me Foundation\, you give the 
 gift of skin picking disorder resources\, support\, awareness\, advocacy a
 nd community to the 3-5 percent of the global population suffering with De
 rmatillomania. Visit our Giving Tuesday page for suggestions on how to sha
 re and see if you're featured as a Sharing Superstar!
X-WR-RELCALID:0728d4701ce24534dbff7e7b87fc4b9f
X-WR-TIMEZONE:America/Chicago
BEGIN:VTIMEZONE
TZID:America/Chicago
BEGIN:STANDARD
TZNAME:CST
DTSTART:20181104T020000
TZOFFSETFROM:-0500
TZOFFSETTO:-0600
RDATE:20191103T020000
END:STANDARD
BEGIN:DAYLIGHT
TZNAME:CDT
DTSTART:20180311T020000
TZOFFSETFROM:-0600
TZOFFSETTO:-0500
RDATE:20190310T020000
RDATE:20200308T020000
END:DAYLIGHT
END:VTIMEZONE
BEGIN:VEVENT
UID:724a0796-6dbe-4932-88a6-352a8c9f07bd
DTSTAMP:20260422T224821Z
DESCRIPTION:When you share about the Picking Me Foundation\, you give the g
 ift of skin picking disorder resources\, support\, awareness\, advocacy an
 d community to the 3-5 percent of the global population suffering with Der
 matillomania. Visit our Giving Tuesday page for suggestions on how to shar
 e and see if you're featured as a Sharing Superstar!
DTSTART;TZID=America/Chicago:20181127T000000
DTEND;TZID=America/Chicago:20181127T235900
LOCATION:
SUMMARY:Giving Tuesday
END:VEVENT
END:VCALENDAR
