BEGIN:VCALENDAR
VERSION:2.0
PRODID:-//pickingme.org//NONSGML kigkonsult.se iCalcreator 2.30.10//
CALSCALE:GREGORIAN
METHOD:PUBLISH
UID:9cb16d7e-fe3e-42fe-aaf7-9f92f36b2dc3
X-WR-CALDESC:Join #PickingMe at the 2019 ADAA Conference! \n\nVisit our exh
 ibition booth to get valuable #SkinPicking information\, buy a Fiddle Pack
  or Digit Fidget\, participate in our #PickingMePledge and #WhatsWithYourS
 kin challenges\, and meet our awesome founder Lauren McKeaney!! \n\nSee ya
  there!!
X-WR-RELCALID:723823abe40517aeb1a14f5a5afb050c
X-WR-TIMEZONE:America/Chicago
BEGIN:VTIMEZONE
TZID:America/Chicago
BEGIN:STANDARD
TZNAME:CST
DTSTART:20181104T020000
TZOFFSETFROM:-0500
TZOFFSETTO:-0600
RDATE:20191103T020000
END:STANDARD
BEGIN:DAYLIGHT
TZNAME:CDT
DTSTART:20190310T020000
TZOFFSETFROM:-0600
TZOFFSETTO:-0500
RDATE:20200308T020000
END:DAYLIGHT
END:VTIMEZONE
BEGIN:VEVENT
UID:6e0e3e18-4306-4d93-838d-e929ae10e66c
DTSTAMP:20260422T134435Z
DESCRIPTION:Join #PickingMe at the 2019 ADAA Conference! \n\nVisit our exhi
 bition booth to get valuable #SkinPicking information\, buy a Fiddle Pack 
 or Digit Fidget\, participate in our #PickingMePledge and #WhatsWithYourSk
 in challenges\, and meet our awesome founder Lauren McKeaney!! \n\nSee ya 
 there!!
DTSTART;TZID=America/Chicago:20190328T000000
DTEND;TZID=America/Chicago:20190331T235900
LOCATION:Sheraton Grand Chicago\, 301 E North Water St\, Chicago\, IL 60611
SUMMARY:2019 Anxiety & Depression Conference Chicago
END:VEVENT
END:VCALENDAR
