BEGIN:VCALENDAR
VERSION:2.0
PRODID:-//pickingme.org//NONSGML kigkonsult.se iCalcreator 2.30.10//
CALSCALE:GREGORIAN
METHOD:PUBLISH
UID:9d9555ec-e1ae-407e-9236-bede41bf049e
X-WR-CALDESC:#PickingMe will be exhibiting at the Chicago International Est
 hetics\, Cosmetics & Spa Conferences this year! Come visit our booth to le
 arn how to become a #SkinPickingDisorder- friendly facility\, do our #What
 sWithYourSkin challenge\, check out our updated Fiddle Packs\, and much mo
 re!!!!
X-WR-RELCALID:8cbd99e19cb32b5638a0196530859f14
X-WR-TIMEZONE:America/Chicago
BEGIN:VTIMEZONE
TZID:America/Chicago
BEGIN:STANDARD
TZNAME:CST
DTSTART:20181104T020000
TZOFFSETFROM:-0500
TZOFFSETTO:-0600
RDATE:20191103T020000
END:STANDARD
BEGIN:DAYLIGHT
TZNAME:CDT
DTSTART:20190310T020000
TZOFFSETFROM:-0600
TZOFFSETTO:-0500
RDATE:20200308T020000
END:DAYLIGHT
END:VTIMEZONE
BEGIN:VEVENT
UID:98419770-3878-468d-ab8d-b2d3ee5d2d12
DTSTAMP:20260424T090521Z
DESCRIPTION:#PickingMe will be exhibiting at the Chicago International Esth
 etics\, Cosmetics & Spa Conferences this year! Come visit our booth to lea
 rn how to become a #SkinPickingDisorder- friendly facility\, do our #Whats
 WithYourSkin challenge\, check out our updated Fiddle Packs\, and much mor
 e!!!!
DTSTART;TZID=America/Chicago:20190330T000000
DTEND;TZID=America/Chicago:20190401T235900
LOCATION:McCormick Place North - Hall C1 2301 S. King Drive Chicago\, IL 60
 616
SUMMARY:International Esthetics\, Cosmetics and Spa Conference
END:VEVENT
END:VCALENDAR
