BEGIN:VCALENDAR
VERSION:2.0
PRODID:-//pickingme.org//NONSGML kigkonsult.se iCalcreator 2.30.10//
CALSCALE:GREGORIAN
METHOD:PUBLISH
UID:ff95a5d9-fc6a-4ddf-9a2f-b404e00af405
X-WR-CALDESC:Join us for this FREE online conference to learn more about OC
 D and the different forms it can take! #PickingMe will have a special gues
 t feature!
X-WR-RELCALID:c785bc5fbb1b269dfc978a08a15b75bb
X-WR-TIMEZONE:America/New_York
BEGIN:VTIMEZONE
TZID:America/New_York
BEGIN:STANDARD
TZNAME:EST
DTSTART:20181104T020000
TZOFFSETFROM:-0400
TZOFFSETTO:-0500
RDATE:20191103T020000
END:STANDARD
BEGIN:DAYLIGHT
TZNAME:EDT
DTSTART:20190310T020000
TZOFFSETFROM:-0500
TZOFFSETTO:-0400
RDATE:20200308T020000
END:DAYLIGHT
END:VTIMEZONE
BEGIN:VEVENT
UID:a7717403-be9f-4c44-8c19-3f2d63bb337d
DTSTAMP:20260422T120456Z
DESCRIPTION:Join us for this FREE online conference to learn more about OCD
  and the different forms it can take! #PickingMe will have a special guest
  feature!
DTSTART;TZID=America/New_York:20190413T120000
DTEND;TZID=America/New_York:20190413T160000
LOCATION:Online
SUMMARY:OCDeconstruct
END:VEVENT
END:VCALENDAR
