BEGIN:VCALENDAR
VERSION:2.0
PRODID:-//pickingme.org//NONSGML kigkonsult.se iCalcreator 2.30.10//
CALSCALE:GREGORIAN
METHOD:PUBLISH
UID:d66c1b1f-da7f-45cd-9225-e0335a799495
X-WR-CALDESC:
X-WR-RELCALID:c05fbc2a6c52f04a9fef7e1f36f14f07
X-WR-TIMEZONE:America/Chicago
BEGIN:VTIMEZONE
TZID:America/Chicago
BEGIN:STANDARD
TZNAME:CST
DTSTART:20181104T020000
TZOFFSETFROM:-0500
TZOFFSETTO:-0600
RDATE:20191103T020000
END:STANDARD
BEGIN:DAYLIGHT
TZNAME:CDT
DTSTART:20190310T020000
TZOFFSETFROM:-0600
TZOFFSETTO:-0500
RDATE:20200308T020000
END:DAYLIGHT
END:VTIMEZONE
BEGIN:VEVENT
UID:f3d7a101-b42a-4320-a231-aa8e9d0df17b
DTSTAMP:20260422T120158Z
DESCRIPTION:
DTSTART;TZID=America/Chicago:20190416T183000
DTEND;TZID=America/Chicago:20190416T200000
LOCATION:770 North LaSalle unit #410 Chicago\, IL 60654
SUMMARY:Support Group
END:VEVENT
END:VCALENDAR
