BEGIN:VCALENDAR
VERSION:2.0
PRODID:-//pickingme.org//NONSGML kigkonsult.se iCalcreator 2.30.10//
CALSCALE:GREGORIAN
METHOD:PUBLISH
UID:bfa06282-3ab6-417d-8cc5-6c9daf281d90
X-WR-CALDESC:Each year\, The Kennedy Forum\, in collaboration with The Chic
 ago Community Trust\, dedicates a day to engaging residents in small conve
 rsations that build relationships and encourage action to benefit the publ
 ic good. We leverage the On The Table platform to start – and continue – d
 ozens of conversations that accelerate mental health awareness and combat 
 stigma.
X-WR-RELCALID:ca9d9527e2352603795d9f901e5e696a
X-WR-TIMEZONE:America/Chicago
BEGIN:VTIMEZONE
TZID:America/Chicago
BEGIN:STANDARD
TZNAME:CST
DTSTART:20181104T020000
TZOFFSETFROM:-0500
TZOFFSETTO:-0600
RDATE:20191103T020000
RDATE:20201101T020000
END:STANDARD
BEGIN:DAYLIGHT
TZNAME:CDT
DTSTART:20190310T020000
TZOFFSETFROM:-0600
TZOFFSETTO:-0500
RDATE:20200308T020000
END:DAYLIGHT
END:VTIMEZONE
BEGIN:VEVENT
UID:211d5c53-5ffb-4f25-b210-2b0048b148c7
DTSTAMP:20260422T103013Z
DESCRIPTION:Each year\, The Kennedy Forum\, in collaboration with The Chica
 go Community Trust\, dedicates a day to engaging residents in small conver
 sations that build relationships and encourage action to benefit the publi
 c good. We leverage the On The Table platform to start – and continue – do
 zens of conversations that accelerate mental health awareness and combat s
 tigma.
DTSTART;TZID=America/Chicago:20190514T000000
DTEND;TZID=America/Chicago:20190514T235900
LOCATION:
SUMMARY:On The Table 2019
END:VEVENT
END:VCALENDAR
