BEGIN:VCALENDAR
VERSION:2.0
PRODID:-//pickingme.org//NONSGML kigkonsult.se iCalcreator 2.30.10//
CALSCALE:GREGORIAN
METHOD:PUBLISH
UID:f3e57150-bccb-4b28-9eeb-775e5df9957d
X-WR-CALDESC:#PickingMe presents our 3rd annual May Mental (W)illness: An E
 vening Honoring the Will It Takes to Live with Mental Illness. Join us at 
 Mahoney's in Chicago for drinks\, a live karaoke band\, smore's bar\, sile
 nt auction\, delicious snacks and more!
X-WR-RELCALID:26e0d5a5ff9c7e3af815e57d4389a42f
X-WR-TIMEZONE:America/Chicago
BEGIN:VTIMEZONE
TZID:America/Chicago
BEGIN:STANDARD
TZNAME:CST
DTSTART:20181104T020000
TZOFFSETFROM:-0500
TZOFFSETTO:-0600
RDATE:20191103T020000
RDATE:20201101T020000
END:STANDARD
BEGIN:DAYLIGHT
TZNAME:CDT
DTSTART:20190310T020000
TZOFFSETFROM:-0600
TZOFFSETTO:-0500
RDATE:20200308T020000
END:DAYLIGHT
END:VTIMEZONE
BEGIN:VEVENT
UID:9de171a7-7719-4011-b82f-2425889f9197
DTSTAMP:20260422T103448Z
DESCRIPTION:#PickingMe presents our 3rd annual May Mental (W)illness: An Ev
 ening Honoring the Will It Takes to Live with Mental Illness. Join us at M
 ahoney's in Chicago for drinks\, a live karaoke band\, smore's bar\, silen
 t auction\, delicious snacks and more!
DTSTART;TZID=America/Chicago:20190523T180000
DTEND;TZID=America/Chicago:20190523T210000
LOCATION:551 Live\, 551 N Ogden Ave\, Chicago IL
SUMMARY:Mental (W)illness
END:VEVENT
END:VCALENDAR
