BEGIN:VCALENDAR
VERSION:2.0
PRODID:-//pickingme.org//NONSGML kigkonsult.se iCalcreator 2.30.10//
CALSCALE:GREGORIAN
METHOD:PUBLISH
UID:ed66a051-dd98-4817-b922-162ca8f4321e
X-WR-CALDESC:
X-WR-RELCALID:fcaeb047b939772d93794628a5fade27
X-WR-TIMEZONE:America/Chicago
BEGIN:VTIMEZONE
TZID:America/Chicago
BEGIN:STANDARD
TZNAME:CST
DTSTART:20181104T020000
TZOFFSETFROM:-0500
TZOFFSETTO:-0600
RDATE:20191103T020000
RDATE:20201101T020000
END:STANDARD
BEGIN:DAYLIGHT
TZNAME:CDT
DTSTART:20190310T020000
TZOFFSETFROM:-0600
TZOFFSETTO:-0500
RDATE:20200308T020000
END:DAYLIGHT
END:VTIMEZONE
BEGIN:VEVENT
UID:1fa69c21-1138-402e-896f-1f3e276b0b9a
DTSTAMP:20260422T081207Z
DESCRIPTION:
DTSTART;TZID=America/Chicago:20190716T183000
DTEND;TZID=America/Chicago:20190716T200000
LOCATION:770 North LaSalle unit #410 Chicago\, IL 60654
SUMMARY:Support Group
END:VEVENT
END:VCALENDAR
