BEGIN:VCALENDAR
VERSION:2.0
PRODID:-//pickingme.org//NONSGML kigkonsult.se iCalcreator 2.30.10//
CALSCALE:GREGORIAN
METHOD:PUBLISH
UID:ac1e30db-8813-4122-b52a-98b98fc5a55f
X-WR-CALDESC:Picking Me will be at IOCDF's annual OCD conference spreading 
 important Skin Picking Disorder advocacy!
X-WR-RELCALID:9a5826babf5ba6ad21ba33eda088a950
X-WR-TIMEZONE:America/Chicago
BEGIN:VTIMEZONE
TZID:America/Chicago
BEGIN:STANDARD
TZNAME:CST
DTSTART:20181104T020000
TZOFFSETFROM:-0500
TZOFFSETTO:-0600
RDATE:20191103T020000
RDATE:20201101T020000
END:STANDARD
BEGIN:DAYLIGHT
TZNAME:CDT
DTSTART:20190310T020000
TZOFFSETFROM:-0600
TZOFFSETTO:-0500
RDATE:20200308T020000
END:DAYLIGHT
END:VTIMEZONE
BEGIN:VEVENT
UID:c7e299fd-f599-418c-91ff-7c5820e4fb9d
DTSTAMP:20260422T062310Z
DESCRIPTION:Picking Me will be at IOCDF's annual OCD conference spreading i
 mportant Skin Picking Disorder advocacy!
DTSTART;TZID=America/Chicago:20190719T000000
DTEND;TZID=America/Chicago:20190721T235900
LOCATION:JW Marriott Austin\, Austin\, TX
SUMMARY:26th Annual OCD Conference
END:VEVENT
END:VCALENDAR
