BEGIN:VCALENDAR
VERSION:2.0
PRODID:-//pickingme.org//NONSGML kigkonsult.se iCalcreator 2.30.10//
CALSCALE:GREGORIAN
METHOD:PUBLISH
UID:b8169658-96ea-4793-a510-450a13a2d7ef
X-WR-CALDESC:Join #PickingMe at the 26th Annual OCD Conference where we'll 
 have a booth full of awesome Skin Picking Disorder info! Our CEO Lauren Mc
 Keaney will also take part in presentation and support group! More details
  to come!
X-WR-RELCALID:771eb1c9c19a09c432bc33fab75867a8
X-WR-TIMEZONE:America/Chicago
BEGIN:VTIMEZONE
TZID:America/Chicago
BEGIN:STANDARD
TZNAME:CST
DTSTART:20181104T020000
TZOFFSETFROM:-0500
TZOFFSETTO:-0600
RDATE:20191103T020000
RDATE:20201101T020000
END:STANDARD
BEGIN:DAYLIGHT
TZNAME:CDT
DTSTART:20190310T020000
TZOFFSETFROM:-0600
TZOFFSETTO:-0500
RDATE:20200308T020000
END:DAYLIGHT
END:VTIMEZONE
BEGIN:VEVENT
UID:55ba932e-b70a-4be6-9a6f-6bc2da2c8690
DTSTAMP:20260422T063121Z
DESCRIPTION:Join #PickingMe at the 26th Annual OCD Conference where we'll h
 ave a booth full of awesome Skin Picking Disorder info! Our CEO Lauren McK
 eaney will also take part in presentation and support group! More details 
 to come!
DTSTART;TZID=America/Chicago:20190719T000000
DTEND;TZID=America/Chicago:20190721T235900
LOCATION:Austin\, TX
SUMMARY:26th Anuual OCD Conference
END:VEVENT
END:VCALENDAR
