BEGIN:VCALENDAR
VERSION:2.0
PRODID:-//pickingme.org//NONSGML kigkonsult.se iCalcreator 2.30.10//
CALSCALE:GREGORIAN
METHOD:PUBLISH
UID:c4fedcd4-e599-4676-9ce0-9fc579d84aa6
X-WR-CALDESC:In honor of International Dog Day\, we'll be unveiling a speci
 al #SpokesPupper Bug page! Stay tuned for this furry friend feature!
X-WR-RELCALID:ac01a9e9949c590a1e0ee0f1d76bbda3
X-WR-TIMEZONE:America/Chicago
BEGIN:VTIMEZONE
TZID:America/Chicago
BEGIN:STANDARD
TZNAME:CST
DTSTART:20181104T020000
TZOFFSETFROM:-0500
TZOFFSETTO:-0600
RDATE:20191103T020000
RDATE:20201101T020000
END:STANDARD
BEGIN:DAYLIGHT
TZNAME:CDT
DTSTART:20190310T020000
TZOFFSETFROM:-0600
TZOFFSETTO:-0500
RDATE:20200308T020000
END:DAYLIGHT
END:VTIMEZONE
BEGIN:VEVENT
UID:8a4d9dcd-a9fc-40d9-984d-e8a95befd3a2
DTSTAMP:20260422T042336Z
DESCRIPTION:In honor of International Dog Day\, we'll be unveiling a specia
 l #SpokesPupper Bug page! Stay tuned for this furry friend feature!
DTSTART;TZID=America/Chicago:20190826T000000
DTEND;TZID=America/Chicago:20190826T235900
LOCATION:
SUMMARY:International Dog Day
END:VEVENT
END:VCALENDAR
