BEGIN:VCALENDAR
VERSION:2.0
PRODID:-//pickingme.org//NONSGML kigkonsult.se iCalcreator 2.30.10//
CALSCALE:GREGORIAN
METHOD:PUBLISH
UID:ed5b0932-c46d-41d6-afc9-df2a74e29957
X-WR-CALDESC:Help us celebrate Lauren McKeaney's birthday by supporting her
  dear nonprofit\, Picking Me Foundation! Consider giving a donation for th
 is special occasion!
X-WR-RELCALID:d45ecd7b3c94308c987f4badee3d421c
X-WR-TIMEZONE:America/Chicago
BEGIN:VTIMEZONE
TZID:America/Chicago
BEGIN:STANDARD
TZNAME:CST
DTSTART:20181104T020000
TZOFFSETFROM:-0500
TZOFFSETTO:-0600
RDATE:20191103T020000
RDATE:20201101T020000
END:STANDARD
BEGIN:DAYLIGHT
TZNAME:CDT
DTSTART:20190310T020000
TZOFFSETFROM:-0600
TZOFFSETTO:-0500
RDATE:20200308T020000
RDATE:20210314T020000
END:DAYLIGHT
END:VTIMEZONE
BEGIN:VEVENT
UID:66fd27d6-52eb-4b61-add6-82dadfb62415
DTSTAMP:20260422T042732Z
DESCRIPTION:Help us celebrate Lauren McKeaney's birthday by supporting her 
 dear nonprofit\, Picking Me Foundation! Consider giving a donation for thi
 s special occasion!
DTSTART;TZID=America/Chicago:20190927T000000
DTEND;TZID=America/Chicago:20190927T235900
LOCATION:WorldWide
SUMMARY:CEO Lauren's Birthday!
END:VEVENT
END:VCALENDAR
