BEGIN:VCALENDAR
VERSION:2.0
PRODID:-//pickingme.org//NONSGML kigkonsult.se iCalcreator 2.30.10//
CALSCALE:GREGORIAN
METHOD:PUBLISH
UID:28374ccc-be70-4bb5-8308-55c69c05d62e
X-WR-CALDESC:
X-WR-RELCALID:2ff1d0e6a38445afdb6188e97fc815dc
X-WR-TIMEZONE:America/Chicago
BEGIN:VTIMEZONE
TZID:America/Chicago
BEGIN:STANDARD
TZNAME:CST
DTSTART:20181104T020000
TZOFFSETFROM:-0500
TZOFFSETTO:-0600
RDATE:20191103T020000
RDATE:20201101T020000
END:STANDARD
BEGIN:DAYLIGHT
TZNAME:CDT
DTSTART:20190310T020000
TZOFFSETFROM:-0600
TZOFFSETTO:-0500
RDATE:20200308T020000
RDATE:20210314T020000
END:DAYLIGHT
END:VTIMEZONE
BEGIN:VEVENT
UID:ac861f9c-371c-425d-95a8-80f2a8b7f87c
DTSTAMP:20260422T005934Z
DESCRIPTION:
DTSTART;TZID=America/Chicago:20191001T183000
DTEND;TZID=America/Chicago:20191001T200000
LOCATION:770 North LaSalle unit #410 Chicago\, IL 60654
SUMMARY:Support Group
END:VEVENT
END:VCALENDAR
