BEGIN:VCALENDAR
VERSION:2.0
PRODID:-//pickingme.org//NONSGML kigkonsult.se iCalcreator 2.30.10//
CALSCALE:GREGORIAN
METHOD:PUBLISH
UID:3ae69f01-76f0-4a24-819a-31018b8e21fe
X-WR-CALDESC:Want to help spread Skin Picking awareness\, share your story 
 living with the disorder and allow #PickingMe to reach more sufferers arou
 nd the world? Share a video submission for #BFRBWeek!
X-WR-RELCALID:e498c8442d0561f64c41ffb02fed0c2c
X-WR-TIMEZONE:America/Chicago
BEGIN:VTIMEZONE
TZID:America/Chicago
BEGIN:STANDARD
TZNAME:CST
DTSTART:20181104T020000
TZOFFSETFROM:-0500
TZOFFSETTO:-0600
RDATE:20191103T020000
RDATE:20201101T020000
END:STANDARD
BEGIN:DAYLIGHT
TZNAME:CDT
DTSTART:20190310T020000
TZOFFSETFROM:-0600
TZOFFSETTO:-0500
RDATE:20200308T020000
RDATE:20210314T020000
END:DAYLIGHT
END:VTIMEZONE
BEGIN:VEVENT
UID:e2553bd6-581b-4642-9579-b383270feda2
DTSTAMP:20260422T005837Z
DESCRIPTION:Want to help spread Skin Picking awareness\, share your story l
 iving with the disorder and allow #PickingMe to reach more sufferers aroun
 d the world? Share a video submission for #BFRBWeek!
DTSTART;TZID=America/Chicago:20191001T000000
DTEND;TZID=America/Chicago:20191007T235900
LOCATION:
SUMMARY:BFRB Week
END:VEVENT
END:VCALENDAR
