BEGIN:VCALENDAR
VERSION:2.0
PRODID:-//pickingme.org//NONSGML kigkonsult.se iCalcreator 2.30.10//
CALSCALE:GREGORIAN
METHOD:PUBLISH
UID:2d7670a3-89d1-4c1c-8ab3-8e3fba231235
X-WR-CALDESC:Mark your calenders for #PickingMe's 3rd birthday and stay tun
 ed for a special surprise!
X-WR-RELCALID:663276976b9e855bc1a7be44a2200ec7
X-WR-TIMEZONE:America/Chicago
BEGIN:VTIMEZONE
TZID:America/Chicago
BEGIN:STANDARD
TZNAME:CST
DTSTART:20181104T020000
TZOFFSETFROM:-0500
TZOFFSETTO:-0600
RDATE:20191103T020000
RDATE:20201101T020000
END:STANDARD
BEGIN:DAYLIGHT
TZNAME:CDT
DTSTART:20190310T020000
TZOFFSETFROM:-0600
TZOFFSETTO:-0500
RDATE:20200308T020000
RDATE:20210314T020000
END:DAYLIGHT
END:VTIMEZONE
BEGIN:VEVENT
UID:99b4e1fa-173c-470e-9f2e-8a7f39fab4c6
DTSTAMP:20260422T024346Z
DESCRIPTION:Mark your calenders for #PickingMe's 3rd birthday and stay tune
 d for a special surprise!
DTSTART;TZID=America/Chicago:20191016T000000
DTEND;TZID=America/Chicago:20191016T235900
LOCATION:
SUMMARY:#PickingMe's Birthday
END:VEVENT
END:VCALENDAR
