BEGIN:VCALENDAR
VERSION:2.0
PRODID:-//pickingme.org//NONSGML kigkonsult.se iCalcreator 2.30.10//
CALSCALE:GREGORIAN
METHOD:PUBLISH
UID:f3f4aa95-5758-4846-a7fe-c23b0f0956aa
X-WR-CALDESC:
X-WR-RELCALID:6a9030a4b90040eae1b048f030e3309a
X-WR-TIMEZONE:America/Chicago
BEGIN:VTIMEZONE
TZID:America/Chicago
BEGIN:STANDARD
TZNAME:CST
DTSTART:20191103T020000
TZOFFSETFROM:-0500
TZOFFSETTO:-0600
RDATE:20201101T020000
END:STANDARD
BEGIN:DAYLIGHT
TZNAME:CDT
DTSTART:20190310T020000
TZOFFSETFROM:-0600
TZOFFSETTO:-0500
RDATE:20200308T020000
RDATE:20210314T020000
END:DAYLIGHT
END:VTIMEZONE
BEGIN:VEVENT
UID:1622d353-4bac-4ddd-b921-b67394b6bb3d
DTSTAMP:20260421T224724Z
DESCRIPTION:
DTSTART;TZID=America/Chicago:20191105T183000
DTEND;TZID=America/Chicago:20191105T200000
LOCATION:770 North LaSalle unit #410 Chicago\, IL 60654
SUMMARY:Support Group
END:VEVENT
END:VCALENDAR
