BEGIN:VCALENDAR
VERSION:2.0
PRODID:-//pickingme.org//NONSGML kigkonsult.se iCalcreator 2.30.10//
CALSCALE:GREGORIAN
METHOD:PUBLISH
UID:443c644b-fdaf-4fcf-a961-0680644ae19c
X-WR-CALDESC:Happy Turkey Day!
X-WR-RELCALID:2452f7d0b0de8904532472d8beb82c7f
X-WR-TIMEZONE:America/Chicago
BEGIN:VTIMEZONE
TZID:America/Chicago
BEGIN:STANDARD
TZNAME:CST
DTSTART:20191103T020000
TZOFFSETFROM:-0500
TZOFFSETTO:-0600
RDATE:20201101T020000
END:STANDARD
BEGIN:DAYLIGHT
TZNAME:CDT
DTSTART:20190310T020000
TZOFFSETFROM:-0600
TZOFFSETTO:-0500
RDATE:20200308T020000
RDATE:20210314T020000
END:DAYLIGHT
END:VTIMEZONE
BEGIN:VEVENT
UID:8b16d932-cc66-4f02-9f88-2008a0af2be3
DTSTAMP:20260421T230013Z
DESCRIPTION:Happy Turkey Day!
DTSTART;TZID=America/Chicago:20191128T000000
DTEND;TZID=America/Chicago:20191128T235900
LOCATION:
SUMMARY:Thanksgiving
END:VEVENT
END:VCALENDAR
