BEGIN:VCALENDAR
VERSION:2.0
PRODID:-//pickingme.org//NONSGML kigkonsult.se iCalcreator 2.30.10//
CALSCALE:GREGORIAN
METHOD:PUBLISH
UID:66dd7295-3b22-4ee5-8870-b6060d01a543
X-WR-CALDESC:In celebration of Black Friday\, Small Business Saturday\, Cyb
 er Monday and Giving Tuesday we're having a special flash sale!\nThrough 1
 1/29 to 12/3\, EVERYTHING in our shop is %10 off!  Don't miss this deal of
  a lifetime for some great stocking-stuffers!
X-WR-RELCALID:af8d3cae0a24da773625aecb889111dd
X-WR-TIMEZONE:America/Chicago
BEGIN:VTIMEZONE
TZID:America/Chicago
BEGIN:STANDARD
TZNAME:CST
DTSTART:20191103T020000
TZOFFSETFROM:-0500
TZOFFSETTO:-0600
RDATE:20201101T020000
END:STANDARD
BEGIN:DAYLIGHT
TZNAME:CDT
DTSTART:20190310T020000
TZOFFSETFROM:-0600
TZOFFSETTO:-0500
RDATE:20200308T020000
RDATE:20210314T020000
END:DAYLIGHT
END:VTIMEZONE
BEGIN:VEVENT
UID:26bbde1b-765d-4c11-ab94-11246a9924b6
DTSTAMP:20260421T224848Z
DESCRIPTION:In celebration of Black Friday\, Small Business Saturday\, Cybe
 r Monday and Giving Tuesday we're having a special flash sale!\nThrough 11
 /29 to 12/3\, EVERYTHING in our shop is %10 off!  Don't miss this deal of 
 a lifetime for some great stocking-stuffers!
DTSTART;TZID=America/Chicago:20191129T000000
DTEND;TZID=America/Chicago:20191203T235900
LOCATION:
SUMMARY:#PickingMe Mega Shop Sale!
END:VEVENT
END:VCALENDAR
