BEGIN:VCALENDAR
VERSION:2.0
PRODID:-//pickingme.org//NONSGML kigkonsult.se iCalcreator 2.30.10//
CALSCALE:GREGORIAN
METHOD:PUBLISH
UID:233e722c-148f-45d9-b4f0-0176b6a7537a
X-WR-CALDESC:
X-WR-RELCALID:c44c6d3995e0990d2588e509b7827dee
X-WR-TIMEZONE:America/Chicago
BEGIN:VTIMEZONE
TZID:America/Chicago
BEGIN:STANDARD
TZNAME:CST
DTSTART:20191103T020000
TZOFFSETFROM:-0500
TZOFFSETTO:-0600
RDATE:20201101T020000
END:STANDARD
BEGIN:DAYLIGHT
TZNAME:CDT
DTSTART:20190310T020000
TZOFFSETFROM:-0600
TZOFFSETTO:-0500
RDATE:20200308T020000
RDATE:20210314T020000
END:DAYLIGHT
END:VTIMEZONE
BEGIN:VEVENT
UID:cdb6e94a-f34a-4fce-ae61-b1cc124ee95a
DTSTAMP:20260421T194057Z
DESCRIPTION:
DTSTART;TZID=America/Chicago:20200107T183000
DTEND;TZID=America/Chicago:20200107T200000
LOCATION:770 North LaSalle unit #410 Chicago\, IL 60654
SUMMARY:Support Group
END:VEVENT
END:VCALENDAR
