BEGIN:VCALENDAR
VERSION:2.0
PRODID:-//pickingme.org//NONSGML kigkonsult.se iCalcreator 2.30.10//
CALSCALE:GREGORIAN
METHOD:PUBLISH
UID:6864dea4-14d9-4479-abd6-9199f7fab5da
X-WR-CALDESC:Join us on Zoom for our first ever ONLINE Mental (W)illness #f
 undraiser and raise a glass in celebration of our awesome community donors
  this #MentalHealthMonth. From 6-8PM (CST) you can come say hi to #CEO @la
 urenmckeaney\, check out the #art in our Drawing with Derma slideshow and 
 connect with fellow do-gooders! To buy tix\, visit pickingme.org/mentalwil
 lness
X-WR-RELCALID:e2ec4ed8249a9eef95f674aff64f1dc9
X-WR-TIMEZONE:America/Chicago
BEGIN:VTIMEZONE
TZID:America/Chicago
BEGIN:STANDARD
TZNAME:CST
DTSTART:20191103T020000
TZOFFSETFROM:-0500
TZOFFSETTO:-0600
RDATE:20201101T020000
RDATE:20211107T020000
END:STANDARD
BEGIN:DAYLIGHT
TZNAME:CDT
DTSTART:20200308T020000
TZOFFSETFROM:-0600
TZOFFSETTO:-0500
RDATE:20210314T020000
END:DAYLIGHT
END:VTIMEZONE
BEGIN:VEVENT
UID:140f68fc-d54f-4b15-8111-62c98a9a3768
DTSTAMP:20260421T124129Z
DESCRIPTION:Join us on Zoom for our first ever ONLINE Mental (W)illness #fu
 ndraiser and raise a glass in celebration of our awesome community donors 
 this #MentalHealthMonth. From 6-8PM (CST) you can come say hi to #CEO @lau
 renmckeaney\, check out the #art in our Drawing with Derma slideshow and c
 onnect with fellow do-gooders! To buy tix\, visit pickingme.org/mentalwill
 ness
DTSTART;TZID=America/Chicago:20200528T180000
DTEND;TZID=America/Chicago:20200528T200000
LOCATION:Zoom
SUMMARY:4th Annual Mental (W)illness fundraiser!
END:VEVENT
END:VCALENDAR
