BEGIN:VCALENDAR
VERSION:2.0
PRODID:-//pickingme.org//NONSGML kigkonsult.se iCalcreator 2.30.10//
CALSCALE:GREGORIAN
METHOD:PUBLISH
UID:a55dc8de-03c3-4ddf-8a6c-e674a4654625
X-WR-CALDESC:Join our Online Skin Picking Support every 1st and 3rd Tuesday
  of the month during the pandemic. Our group is for adults (18+) and is le
 d by #PickingMe CEO and Skin Picker Lauren McKeaney. Click the link below 
 to sign up!
X-WR-RELCALID:4897f49d62db4d29e958c43e7dc8d64b
X-WR-TIMEZONE:America/Chicago
BEGIN:VTIMEZONE
TZID:America/Chicago
BEGIN:STANDARD
TZNAME:CST
DTSTART:20201101T020000
TZOFFSETFROM:-0500
TZOFFSETTO:-0600
RDATE:20211107T020000
RDATE:20221106T020000
END:STANDARD
BEGIN:DAYLIGHT
TZNAME:CDT
DTSTART:20210314T020000
TZOFFSETFROM:-0600
TZOFFSETTO:-0500
RDATE:20220313T020000
END:DAYLIGHT
END:VTIMEZONE
BEGIN:VEVENT
UID:5973c0d9-3ee0-4665-8b34-17b8f8e863db
DTSTAMP:20260421T143945Z
DESCRIPTION:Join our Online Skin Picking Support every 1st and 3rd Tuesday 
 of the month during the pandemic. Our group is for adults (18+) and is led
  by #PickingMe CEO and Skin Picker Lauren McKeaney. Click the link below t
 o sign up!
DTSTART;TZID=America/Chicago:20210803T180000
DTEND;TZID=America/Chicago:20210803T193000
LOCATION:Online
SUMMARY:Online Skin Picking Support Group
END:VEVENT
END:VCALENDAR
