BEGIN:VCALENDAR
VERSION:2.0
PRODID:-//pickingme.org//NONSGML kigkonsult.se iCalcreator 2.30.10//
CALSCALE:GREGORIAN
METHOD:PUBLISH
UID:875017f0-e4d9-4f54-9a5b-2091548ecb1f
X-WR-CALDESC:Click the link below to learn all the ways you can take action
  and help fellow BFRB strugglers feel less alone during this important awa
 reness week!
X-WR-RELCALID:9f0d27df4566835090fe09318dd5a46c
X-WR-TIMEZONE:America/Chicago
BEGIN:VTIMEZONE
TZID:America/Chicago
BEGIN:STANDARD
TZNAME:CST
DTSTART:20201101T020000
TZOFFSETFROM:-0500
TZOFFSETTO:-0600
RDATE:20211107T020000
RDATE:20221106T020000
END:STANDARD
BEGIN:DAYLIGHT
TZNAME:CDT
DTSTART:20210314T020000
TZOFFSETFROM:-0600
TZOFFSETTO:-0500
RDATE:20220313T020000
RDATE:20230312T020000
END:DAYLIGHT
END:VTIMEZONE
BEGIN:VEVENT
UID:272edb6d-dccf-46f6-9520-a7f6e9fe266d
DTSTAMP:20260421T145053Z
DESCRIPTION:Click the link below to learn all the ways you can take action 
 and help fellow BFRB strugglers feel less alone during this important awar
 eness week!
DTSTART;TZID=America/Chicago:20211001T000000
DTEND;TZID=America/Chicago:20211007T235900
LOCATION:https://pickingme.org/get-involved/bfrbweek/
SUMMARY:#BFRBweek 2021!
END:VEVENT
END:VCALENDAR
