BEGIN:VCALENDAR
VERSION:2.0
PRODID:-//pickingme.org//NONSGML kigkonsult.se iCalcreator 2.30.10//
CALSCALE:GREGORIAN
METHOD:PUBLISH
UID:1d6244b5-25fc-4e4d-9a1c-66d4d0f82049
X-WR-CALDESC:Join our Insta Live session with the lovely Michael and Luce o
 f Calm Strips at 2-2:30 PM cst. We'll be chatting our sweet Calm Strips co
 llab and much more!
X-WR-RELCALID:7b95da46191803abc86d984c2eea66be
X-WR-TIMEZONE:America/Chicago
BEGIN:VTIMEZONE
TZID:America/Chicago
BEGIN:STANDARD
TZNAME:CST
DTSTART:20201101T020000
TZOFFSETFROM:-0500
TZOFFSETTO:-0600
RDATE:20211107T020000
RDATE:20221106T020000
END:STANDARD
BEGIN:DAYLIGHT
TZNAME:CDT
DTSTART:20210314T020000
TZOFFSETFROM:-0600
TZOFFSETTO:-0500
RDATE:20220313T020000
RDATE:20230312T020000
END:DAYLIGHT
END:VTIMEZONE
BEGIN:VEVENT
UID:3c13993e-98bd-459a-9b7c-ee7acca1cc26
DTSTAMP:20260421T144425Z
DESCRIPTION:Join our Insta Live session with the lovely Michael and Luce of
  Calm Strips at 2-2:30 PM cst. We'll be chatting our sweet Calm Strips col
 lab and much more!
DTSTART;TZID=America/Chicago:20211007T140000
DTEND;TZID=America/Chicago:20211007T143000
LOCATION:https://www.instagram.com/pickingmefdn/
SUMMARY:Insta Live with Calm Strips!
END:VEVENT
END:VCALENDAR
